BEGIN:VCALENDAR
VERSION:2.0
PRODID:-//Vikast - ECPv6.15.17.1//NONSGML v1.0//EN
CALSCALE:GREGORIAN
METHOD:PUBLISH
X-ORIGINAL-URL:https://vikast.com
X-WR-CALDESC:Events for Vikast
REFRESH-INTERVAL;VALUE=DURATION:PT1H
X-Robots-Tag:noindex
X-PUBLISHED-TTL:PT1H
BEGIN:VTIMEZONE
TZID:America/Los_Angeles
BEGIN:DAYLIGHT
TZOFFSETFROM:-0800
TZOFFSETTO:-0700
TZNAME:PDT
DTSTART:20250309T100000
END:DAYLIGHT
BEGIN:STANDARD
TZOFFSETFROM:-0700
TZOFFSETTO:-0800
TZNAME:PST
DTSTART:20251102T090000
END:STANDARD
BEGIN:DAYLIGHT
TZOFFSETFROM:-0800
TZOFFSETTO:-0700
TZNAME:PDT
DTSTART:20260308T100000
END:DAYLIGHT
BEGIN:STANDARD
TZOFFSETFROM:-0700
TZOFFSETTO:-0800
TZNAME:PST
DTSTART:20261101T090000
END:STANDARD
BEGIN:DAYLIGHT
TZOFFSETFROM:-0800
TZOFFSETTO:-0700
TZNAME:PDT
DTSTART:20270314T100000
END:DAYLIGHT
BEGIN:STANDARD
TZOFFSETFROM:-0700
TZOFFSETTO:-0800
TZNAME:PST
DTSTART:20271107T090000
END:STANDARD
END:VTIMEZONE
BEGIN:VEVENT
DTSTART;TZID=America/Los_Angeles:20261205T090000
DTEND;TZID=America/Los_Angeles:20261205T090000
DTSTAMP:20260420T105405
CREATED:20260117T055143Z
LAST-MODIFIED:20260117T095728Z
UID:10000120-1796461200-1796461200@vikast.com
SUMMARY:Kern County Fairgrounds
DESCRIPTION:« All Events\n \n\n	Kern County Fairgrounds\n\n	Date & Time:\n			December 5\n	  │\n9:00 AM\n\n	\n	Add to calendar	\n		\n	\n \n\n\n	Google Calendar\n\n\n	iCalendar\n\n\n	Outlook 365\n\n\n	Outlook Live\n\n\n																														 \nVenue\n\n		Kern County Fairgrounds	\n\n	Address:\n\n1142 South P Street\n		\n		Bakersfield\,\n	CA\n	93307\n	United States\n\n\n	+ Google Map \n\n	Phone:\n\n					\n			1-877-784-5278			\n	 \n\n \n\n	Related Events\n\n\n	\n		 \n\n	\n		Glendale Pacific Community Center	\n\n\n	January 24 │ 9:00 AM \n\n\n	\n		 \n\n	\n		Pasadena Conference Center	\n\n\n	March 14 │ 9:00 AM \n\n\n	\n		 \n\n	\n		Doubletree by Hilton Hotel	\n\n\n	April 11 │ 9:00 AM \n\n\n\n\n\n\n				2026 Blue Shield of California Member Meeting	\n\n\n	\n		2026 Aetna Member Meeting
URL:https://vikast.com/event-2/kern-county-fairgrounds/
LOCATION:Kern County Fairgrounds\, 1142 South P Street\, Bakersfield\, CA\, 93307\, United States
CATEGORIES:Seminars
ATTACH;FMTTYPE=image/webp:https://vikast.com/wp-content/uploads/2026/01/Kern-County-Fairgrounds-1.webp
ORGANIZER;CN="Vincent Stubbs":MAILTO:V.Stubbs@Vikast.com
END:VEVENT
BEGIN:VEVENT
DTSTART;TZID=America/Los_Angeles:20261214T100000
DTEND;TZID=America/Los_Angeles:20261214T110000
DTSTAMP:20260420T105405
CREATED:20251219T095015Z
LAST-MODIFIED:20251219T095229Z
UID:10000104-1797242400-1797246000@vikast.com
SUMMARY:2026 Aetna Member Meeting
DESCRIPTION:« All Events\n \n\n	2026 Aetna Member Meeting\n\n	Date & Time:\n			December 14\n	  │\n10:00 AM\n	 –\n11:00 AM\n\n	\n	Add to calendar	\n		\n	\n \n\n\n	Google Calendar\n\n\n	iCalendar\n\n\n	Outlook 365\n\n\n	Outlook Live\n\n\n																														 \nDetails\n\n	Organizer\n\n			Vincent Stubbs	\n\n	Phone:\n\n					\n			1-877-784-5278			\n	 \n\n	Website:\nView Organizer Website \n\n	Email:\n\n					\n			V.Stubbs@Vikast.com			\n	 \nHealth Carrier:\nAetna\n																														 \nDetails\n\n	Organizer\n\n			Vincent Stubbs	\n\n	Phone:\n\n					\n			1-877-784-5278			\n	 \n\n	Email:\n\n					\n			V.Stubbs@Vikast.com			\n	 \nOccurs every month on the second Monday starting 1/12 until 12/14\n					\n				\n									Seminar Link
URL:https://vikast.com/event-2/2026-aetna-member-meeting-12/
CATEGORIES:Virtual
ATTACH;FMTTYPE=image/webp:https://vikast.com/wp-content/uploads/2025/04/virtual-seminar-vikast.webp
ORGANIZER;CN="Vincent Stubbs":MAILTO:V.Stubbs@Vikast.com
LOCATION:https://vikast.com/event-2/2026-aetna-member-meeting-12/
END:VEVENT
BEGIN:VEVENT
DTSTART;TZID=America/Los_Angeles:20261215T100000
DTEND;TZID=America/Los_Angeles:20261215T110000
DTSTAMP:20260420T105405
CREATED:20251219T095550Z
LAST-MODIFIED:20251219T095904Z
UID:10000105-1797328800-1797332400@vikast.com
SUMMARY:2026 Scan Member Meeting
DESCRIPTION:« All Events\n \n\n	2026 Scan Member Meeting\n\n	Date & Time:\n			December 15\n	  │\n10:00 AM\n	 –\n11:00 AM\n\n	\n	Add to calendar	\n		\n	\n \n\n\n	Google Calendar\n\n\n	iCalendar\n\n\n	Outlook 365\n\n\n	Outlook Live\n\n\n																														 \nDetails\n\n	Organizer\n\n			Vincent Stubbs	\n\n	Phone:\n\n					\n			1-877-784-5278			\n	 \n\n	Website:\nView Organizer Website \n\n	Email:\n\n					\n			V.Stubbs@Vikast.com			\n	 \nHealth Carrier:\nAetna\n																														 \nDetails\n\n	Organizer\n\n			Vincent Stubbs	\n\n	Phone:\n\n					\n			1-877-784-5278			\n	 \n\n	Email:\n\n					\n			V.Stubbs@Vikast.com			\n	 \nOccurs every month on the second Tuesday starting 1/13 until 12/15\n					\n				\n									Seminar Link
URL:https://vikast.com/event-2/2026-scan-member-meeting-12/
CATEGORIES:Virtual
ATTACH;FMTTYPE=image/webp:https://vikast.com/wp-content/uploads/2025/04/virtual-seminar-vikast-4-1.webp
ORGANIZER;CN="Vincent Stubbs":MAILTO:V.Stubbs@Vikast.com
LOCATION:https://vikast.com/event-2/2026-scan-member-meeting-12/
END:VEVENT
BEGIN:VEVENT
DTSTART;TZID=America/Los_Angeles:20261216T100000
DTEND;TZID=America/Los_Angeles:20261216T110000
DTSTAMP:20260420T105405
CREATED:20251219T100149Z
LAST-MODIFIED:20251219T100334Z
UID:10000106-1797415200-1797418800@vikast.com
SUMMARY:2026 Alignment Member Meeting
DESCRIPTION:« All Events\n \n\n	2026 Alignment Member Meeting\n\n	Date & Time:\n			December 16\n	  │\n10:00 AM\n	 –\n11:00 AM\n\n	\n	Add to calendar	\n		\n	\n \n\n\n	Google Calendar\n\n\n	iCalendar\n\n\n	Outlook 365\n\n\n	Outlook Live\n\n\n																														 \nDetails\n\n	Organizer\n\n			Vincent Stubbs	\n\n	Phone:\n\n					\n			1-877-784-5278			\n	 \n\n	Website:\nView Organizer Website \n\n	Email:\n\n					\n			V.Stubbs@Vikast.com			\n	 \nHealth Carrier:\nAetna\n																														 \nDetails\n\n	Organizer\n\n			Vincent Stubbs	\n\n	Phone:\n\n					\n			1-877-784-5278			\n	 \n\n	Email:\n\n					\n			V.Stubbs@Vikast.com			\n	 \n					\n				\n									Seminar Link
URL:https://vikast.com/event-2/2026-alignment-member-meeting-12/
CATEGORIES:Virtual
ATTACH;FMTTYPE=image/webp:https://vikast.com/wp-content/uploads/2025/04/virtual-seminar-vikast.webp
ORGANIZER;CN="Vincent Stubbs":MAILTO:V.Stubbs@Vikast.com
LOCATION:https://vikast.com/event-2/2026-alignment-member-meeting-12/
END:VEVENT
BEGIN:VEVENT
DTSTART;TZID=America/Los_Angeles:20261217T100000
DTEND;TZID=America/Los_Angeles:20261217T110000
DTSTAMP:20260420T105405
CREATED:20251219T100632Z
LAST-MODIFIED:20251219T101227Z
UID:10000107-1797501600-1797505200@vikast.com
SUMMARY:2026 Humana Health Member Meeting
DESCRIPTION:« All Events\n \n\n	2026 Humana Health Member Meeting\n\n	Date & Time:\n			December 17\n	  │\n10:00 AM\n	 –\n11:00 AM\n\n	\n	Add to calendar	\n		\n	\n \n\n\n	Google Calendar\n\n\n	iCalendar\n\n\n	Outlook 365\n\n\n	Outlook Live\n\n\n																														 \nDetails\n\n	Organizer\n\n			Vincent Stubbs	\n\n	Phone:\n\n					\n			1-877-784-5278			\n	 \n\n	Website:\nView Organizer Website \n\n	Email:\n\n					\n			V.Stubbs@Vikast.com			\n	 \nHealth Carrier:\nAetna\n																														 \nDetails\n\n	Organizer\n\n			Vincent Stubbs	\n\n	Phone:\n\n					\n			1-877-784-5278			\n	 \n\n	Email:\n\n					\n			V.Stubbs@Vikast.com			\n	 \nOccurs every month on the third Thursday starting 1/15 until 12/17\n					\n				\n									Seminar Link
URL:https://vikast.com/event-2/2026-humana-health-member-meeting-12/
CATEGORIES:Virtual
ATTACH;FMTTYPE=image/webp:https://vikast.com/wp-content/uploads/2025/04/virtual-seminar-vikast-4-1.webp
ORGANIZER;CN="Vincent Stubbs":MAILTO:V.Stubbs@Vikast.com
LOCATION:https://vikast.com/event-2/2026-humana-health-member-meeting-12/
END:VEVENT
BEGIN:VEVENT
DTSTART;TZID=America/Los_Angeles:20261218T100000
DTEND;TZID=America/Los_Angeles:20261218T110000
DTSTAMP:20260420T105405
CREATED:20251219T101716Z
LAST-MODIFIED:20251219T102445Z
UID:10000108-1797588000-1797591600@vikast.com
SUMMARY:2026 Blue Shield of California Member Meeting
DESCRIPTION:« All Events\n \n\n	2026 Blue Shield of California Member Meeting\n\n	Date & Time:\n			December 18\n	  │\n10:00 AM\n	 –\n11:00 AM\n\n	\n	Add to calendar	\n		\n	\n \n\n\n	Google Calendar\n\n\n	iCalendar\n\n\n	Outlook 365\n\n\n	Outlook Live\n\n\n																														 \nDetails\n\n	Organizer\n\n			Vincent Stubbs	\n\n	Phone:\n\n					\n			1-877-784-5278			\n	 \n\n	Website:\nView Organizer Website \n\n	Email:\n\n					\n			V.Stubbs@Vikast.com			\n	 \nHealth Carrier:\nAetna\n																														 \nDetails\n\n	Organizer\n\n			Vincent Stubbs	\n\n	Phone:\n\n					\n			1-877-784-5278			\n	 \n\n	Email:\n\n					\n			V.Stubbs@Vikast.com			\n	 \nOccurs every month on the third Friday starting 1/16 until 12/18\n					\n				\n									Seminar Link
URL:https://vikast.com/event-2/2026-blue-shield-of-california-member-meeting-12/
CATEGORIES:Virtual
ATTACH;FMTTYPE=image/webp:https://vikast.com/wp-content/uploads/2025/04/virtual-seminar-vikast.webp
ORGANIZER;CN="Vincent Stubbs":MAILTO:V.Stubbs@Vikast.com
LOCATION:https://vikast.com/event-2/2026-blue-shield-of-california-member-meeting-12/
END:VEVENT
END:VCALENDAR