BEGIN:VCALENDAR
VERSION:2.0
PRODID:-//Vikast - ECPv6.15.17.1//NONSGML v1.0//EN
CALSCALE:GREGORIAN
METHOD:PUBLISH
X-ORIGINAL-URL:https://vikast.com
X-WR-CALDESC:Events for Vikast
REFRESH-INTERVAL;VALUE=DURATION:PT1H
X-Robots-Tag:noindex
X-PUBLISHED-TTL:PT1H
BEGIN:VTIMEZONE
TZID:America/Denver
BEGIN:DAYLIGHT
TZOFFSETFROM:-0700
TZOFFSETTO:-0600
TZNAME:MDT
DTSTART:20240310T090000
END:DAYLIGHT
BEGIN:STANDARD
TZOFFSETFROM:-0600
TZOFFSETTO:-0700
TZNAME:MST
DTSTART:20241103T080000
END:STANDARD
BEGIN:DAYLIGHT
TZOFFSETFROM:-0700
TZOFFSETTO:-0600
TZNAME:MDT
DTSTART:20250309T090000
END:DAYLIGHT
BEGIN:STANDARD
TZOFFSETFROM:-0600
TZOFFSETTO:-0700
TZNAME:MST
DTSTART:20251102T080000
END:STANDARD
BEGIN:DAYLIGHT
TZOFFSETFROM:-0700
TZOFFSETTO:-0600
TZNAME:MDT
DTSTART:20260308T090000
END:DAYLIGHT
BEGIN:STANDARD
TZOFFSETFROM:-0600
TZOFFSETTO:-0700
TZNAME:MST
DTSTART:20261101T080000
END:STANDARD
END:VTIMEZONE
BEGIN:VEVENT
DTSTART;TZID=America/Denver:20250501T080000
DTEND;TZID=America/Denver:20250501T080000
DTSTAMP:20260420T030803
CREATED:20250429T210122Z
LAST-MODIFIED:20250502T205900Z
UID:10000030-1746086400-1746086400@vikast.com
SUMMARY:Senior Expo - Commerce
DESCRIPTION:« All Events \nSenior Expo – Commerce\nDate & Time:\nMay 1\n│\n8:00 AM\n\n\nAdd to calendar \n \n\nGoogle Calendar\niCalendar\nOutlook 365\nOutlook Live\n\n \nVenue\nCommerce Casino (Grand Ballroom 2nd Floor)\nAddress:\n6121 Telegraph Rd \nCommerce\,\nCA\n90040\nUnited States\n+ Google Map \nPhone:\n\n(818) 292-2526  \n\n \nRelated Events\n\n\n \n\n\nSanta Clarita 2 \nMay 5│10:00 AM \n\n\n  \n\nSanta Clarita 3 \nMay 10│10:00 AM\n\n  \n\nSeminar Burbank 1 \nMay 12│10:00 AM\n\n\n\n\nSanta Clarita 1 \n\nSanta Clarita 2
URL:https://vikast.com/event-2/senior-expo-commerce/
LOCATION:Commerce Casino (Grand Ballroom 2nd Floor)\, 6121 Telegraph Rd\, Commerce\, CA\, 90040\, United States
CATEGORIES:Seminars
ATTACH;FMTTYPE=image/png:https://vikast.com/wp-content/uploads/2025/04/hotel-casino-3.png
ORGANIZER;CN="Vincent Stubbs":MAILTO:V.Stubbs@Vikast.com
END:VEVENT
BEGIN:VEVENT
DTSTART;TZID=America/Denver:20250422T140000
DTEND;TZID=America/Denver:20250422T140000
DTSTAMP:20260420T030803
CREATED:20250418T233430Z
LAST-MODIFIED:20250502T205950Z
UID:10000009-1745330400-1745330400@vikast.com
SUMMARY:Santa Clarita 1
DESCRIPTION:« All Events \nThis event has passed. \nSanta Clarita 1\nDate & Time:\nApril 22\n│\n2:00 PM\n\n\nAdd to calendar \n \n\nGoogle Calendar\niCalendar\nOutlook 365\nOutlook Live\n\n \nVenue\nResidence Inn\nAddress:\n25320 The Old Road \nSanta Clarita\,\nCA\n91381\nUnited States\n+ Google Map \nPhone:\n\n(818) 292-2526  \n\n \nRelated Events\n\n\n \n\n\nSenior Expo – Commerce \nMay 1│8:00 AM \n\n\n  \n\nSanta Clarita 2 \nMay 5│10:00 AM\n\n  \n\nSanta Clarita 3 \nMay 10│10:00 AM\n\n\n\n\nGolden Future 50+ Senior Expo \n\nSenior Expo – Commerce
URL:https://vikast.com/event-2/santa-clarita/
LOCATION:Residence Inn\, 25320 The Old Road\, Santa Clarita\, CA\, 91381\, United States
CATEGORIES:Seminars
ATTACH;FMTTYPE=image/webp:https://vikast.com/wp-content/uploads/2025/04/santa-clarita-3-1.webp
ORGANIZER;CN="Vincent Stubbs":MAILTO:V.Stubbs@Vikast.com
END:VEVENT
END:VCALENDAR